Workbook

Sheet Cover Sheet
A7: KENTUCKY
E9: 2026 CAPITALIZATION RATE STUDY
A16: =+'S&D'!A12 -> Air Passenger Carriers
A34: #VALUE!

Sheet Yield CapRate
A1: KENTUCKY DEPARTMENT OF REVENUE
A2: DIVISION OF STATE VALUATION, PUBLIC SERVICE BRANCH
A3: 2026 Tax Year
D10: YIELD CAPITALIZATION RATE CONCLUSION
D16: =+'S&D'!A12 -> Air Passenger Carriers
B19: Source of | C19: Capital | D19: Cost of Capital | E19: Marginal | F19: Cost of Capital | G19: Weighted
B20: Capital | C20: Structure | D20: Rate | E20: Tax Rate | F20: After Tax | G20: Cost
B23: EQUITY | C23: ='S&D'!J52 -> 0.49 | D23: =+'Indicated Yield Equity Rate '!D53 -> 0.1244 | F23: =+D23 -> 0.1244 | G23: =+F23*C23 -> 0.060956
B25: DEBT | C25: ='S&D'!K52 -> 0.51 | D25: =+Debt!J30 -> 0.0774 | E25: 0.26 | F25: =+D25*(1-E25) -> 0.057276 | G25: =+C25*F25 -> 0.02921076
B27: WACC | C27: =+C23+C25 -> 1 | G27: =+G23+G25 -> 0.09016676
F29: Selected | G29: 0.0902

Sheet Direct CapRates
A1: KENTUCKY DEPARTMENT OF REVENUE
A2: DIVISION OF STATE VALUATION, PUBLIC SERVICE BRANCH
A3: 2026 Tax Year
D11: DIRECT CAPITALIZATION RATE CONCLUSION
D15: =+'S&D'!A12 -> Air Passenger Carriers
D16: NOI After Tax (NOPAT)
B19: Source of | C19: Capital | D19: Capitalization | E19: Marginal | F19: Capitalization Rate | G19: Weighted
B20: Capital | C20: Structure | D20: Rate | E20: Tax Rate | F20: After Tax | G20: CAP RATE
B23: EQUITY | C23: ='S&D'!J52 -> 0.49 | D23: =+'Direct NOPAT'!J33 -> 0.1145 | E23: - | F23: =+D23 -> 0.1145 | G23: =+F23*C23 -> 0.056105
B25: DEBT | C25: ='S&D'!K52 -> 0.51 | D25: =+Debt!J30 -> 0.0774 | E25: 0.26 | F25: =+D25*(1-E25) -> 0.057276 | G25: =+C25*F25 -> 0.02921076
B27: TOTAL | C27: =+C23+C25 -> 1 | G27: =+G23+G25 -> 0.08531576
F29: Selected | G29: 0.0853
F31: Multiplier | G31: =1/G29 -> 11.723329
A34: KENTUCKY DEPARTMENT OF REVENUE
A35: DIVISION OF STATE VALUATION, PUBLIC SERVICE BRANCH
A36: 2026 Tax Year
D44: DIRECT CAPITALIZATION RATE CONCLUSION
D48: =+D15 -> Air Passenger Carriers
D49: GCF After Tax
B52: Source of | C52: Capital | D52: Capitalization | E52: Marginal | F52: Capitalization Rate | G52: Weighted
B53: Capital | C53: Structure | D53: Rate | E53: Tax Rate | F53: After Tax | G53: CAP RATE
B56: EQUITY | C56: ='S&D'!J52 -> 0.49 | D56: ='Direct GCF'!H33 -> 0.24765 | F56: =+D56 -> 0.24765 | G56: =+F56*C56 -> 0.1213485
B58: DEBT | C58: ='S&D'!K52 -> 0.51 | D58: =+Debt!J30 -> 0.0774 | E58: 0.26 | F58: =+D58*(1-E58) -> 0.057276 | G58: =+C58*F58 -> 0.02921076
B60: TOTAL | C60: =+C56+C58 -> 1 | G60: =+G56+G58 -> 0.15055926
F62: Selected | G62: 0.1506
F64: Multiplier | G64: =1/G62 -> 6.6401062

Sheet S&D
A1: KENTUCKY DEPARTMENT OF REVENUE
A2: DIVISION OF STATE VALUATION, PUBLIC SERVICE BRANCH
A3: 2026 Tax Year
A12: Air Passenger Carriers | F12: CAPITAL STRUCTURE
F13: YEAR END 12/31/2025
D16: 4th Qtr | E16: 4th Qtr | F16: 4th Qtr | G16: Year End | H16: Dec. 31, 2025 | I16: Dec. 31, 2025 | J16: Dec. 31, 2025
B17: Ticker | C17: Industry | D17: Stock Price | E17: Stock Price | F17: Average | G17: Dec. 31, 2025 | H17: Common Stock | I17: Preferred Stock | J17: Long Term Debt **
A18: Company | B18: Symbol | C18: Group | D18: High | E18: Low | F18: Stock Price | G18: Stock Price | H18: Shares Outstanding * | I18: General Partner Units | J18: & Finance Leases
H19: Shares Issued less Treasury | I19: Book Value | J19: Book Value
A20: VL | B20: VL | C20: VL | D20: VL | E20: VL | F20: Calculated | G20: VL | H20: 10K / SEC | I20: 10K / SEC | J20: 10K / SEC
A22: Alaska Air | B22: ALK | C22: AirTrans | D22: 53.88 | E22: 37.63 | F22: =AVERAGE(D22,E22) -> 45.755 | G22: 50.3 | H22: 115530889 | J22: =197000000+4834000000 -> 5031000000
A23: Allegiant Travel Co. | B23: ALGT | C23: AirTrans | D23: 93 | E23: 57.11 | F23: =AVERAGE(D23,E23) -> 75.055 | G23: 85.27 | H23: 18377737 | J23: =118075000+1681541000 -> 1799616000
A24: American Airlines | B24: AAL | C24: AirTrans | D24: 16.35 | E24: 11.42 | F24: =AVERAGE(D24,E24) -> 13.885 | G24: 15.33 | H24: 660301080 | J24: =2753000000+25254000000 -> 28007000000
A25: Delta Air Lines | B25: DAL | C25: AirTrans | D25: 72.34 | E25: 55.03 | F25: =AVERAGE(D25,E25) -> 63.685 | G25: 69.4 | H25: =659669346-6498109 -> 653171237 | J25: =1605000000+12507000000 -> 14112000000
A26: JetBlue Airways | B26: JBLU | C26: AirTrans | D26: 5.15 | E26: 3.98 | F26: =AVERAGE(D26,E26) -> 4.565 | G26: 4.55 | H26: 370000000 | J26: =769000000+7729000000 -> 8498000000
A27: Skywest Inc | B27: SKYW | C27: AirTrans | D27: 108.7 | E27: 94.88 | F27: =AVERAGE(D27,E27) -> 101.79 | G27: 100.41 | H27: =84270723-44399241 -> 39871482 | J27: =546812000+1845272000 -> 2392084000
A28: Southwest Airlines | B28: LUV | C28: AirTrans | D28: 43.54 | E28: 29.26 | F28: =AVERAGE(D28,E28) -> 36.4 | G28: 41.33 | H28: =888111634-372530238 -> 515581396 | J28: =324000000+4577000000 -> 4901000000
A29: United Airlines Holdings Inc | B29: UAL | C29: AirTrans | D29: 116.32 | E29: 88.55 | F29: =AVERAGE(D29,E29) -> 102.435 | G29: 111.82 | H29: 323470682 | J29: =4426000000+20562000000 -> 24988000000
D34: Dec. 31, 2025 | E34: Dec. 31, 2025 | F34: Dec. 31, 2025 | G34: Dec. 31, 2025 | H34: Dec. 31, 2025 | I34: Dec. 31, 2025 | J34: Dec. 31, 2025 | K34: Dec. 31, 2025
B35: Ticker | C35: Industry | D35: Common Stock | E35: Preferred Stock *** | F35: Operating Leases **** | G35: Variable Leases ***** | H35: Long Term Debt | I35: Total Market Value | J35: % Common Stock | K35: % LT Debt & Pref Stock
A36: Company | B36: Symbol | C36: Group | D36: FMV | E36: FMV | F36: FMV / PV | G36: FMV / PV | H36: FMV | I36: CS+PS+OL+VL+LTD | K36: & Op Leases
A37: VL | B37: VL | C37: VL | D37: Calculated | E37: 10K / SEC | F37: 10K / SEC | G37: 10K / SEC | H37: 10K / SEC | I37: Calculated | J37: Calculated | K37: Calculated
A39: =+A22 -> Alaska Air | B39: =+B22 -> ALK | C39: =+C22 -> AirTrans | D39: =(+H22)*G22 -> 5.8112037e+09 | E39: =(1/1)*I22 -> 0 | F39: =+G70 -> 1584000000 | G39: 0 | H39: =(2756/2761)*J22 -> 5.0218892e+09 | I39: =+D39+E39+F39+G39+H39 -> 1.2417093e+10 | J39: =(+D39)/I39 -> 0.46800034 | K39: =(+E39+F39+G39+H39)/I39 -> 0.53199966
A40: =+A23 -> Allegiant Travel Co. | B40: =+B23 -> ALGT | C40: =+C23 -> AirTrans | D40: =(+H23)*G23 -> 1.5670696e+09 | E40: =(1/1)*I23 -> 0 | F40: =+G71 -> 65106000 | G40: 0 | H40: =(1424251/1413205)*J23 -> 1.8136823e+09 | I40: =+D40+E40+F40+G40+H40 -> 3.4458579e+09 | J40: =(+D40)/I40 -> 0.45476908 | K40: =(+E40+F40+G40+H40)/I40 -> 0.54523092
A41: =+A24 -> American Airlines | B41: =+B24 -> AAL | C41: =+C24 -> AirTrans | D41: =(+H24)*G24 -> 1.0122416e+10 | E41: =(1/1)*I24 -> 0 | F41: =+G72 -> 6963000000 | G41: 0 | H41: =(28582/28280)*J24 -> 2.8306085e+10 | I41: =+D41+E41+F41+G41+H41 -> 4.53915e+10 | J41: =(+D41)/I41 -> 0.22300245 | K41: =(+E41+F41+G41+H41)/I41 -> 0.77699755
A42: =+A25 -> Delta Air Lines | B42: =+B25 -> DAL | C42: =+C25 -> AirTrans | D42: =(+H25)*G25 -> 4.5330084e+10 | E42: =(1/1)*I25 -> 0 | F42: =+G73 -> 6162000000 | G42: 0 | H42: =(13400/13308)*J25 -> 1.4209558e+10 | I42: =+D42+E42+F42+G42+H42 -> 6.5701642e+10 | J42: =(+D42)/I42 -> 0.68993837 | K42: =(+E42+F42+G42+H42)/I42 -> 0.31006163
A43: =+A26 -> JetBlue Airways | B43: =+B26 -> JBLU | C43: =+C26 -> AirTrans | D43: =(+H26)*G26 -> 1683500000 | E43: =(1/1)*I26 -> 0 | F43: =+G74 -> 79000000 | G43: 0 | H43: =(7829/8498)*J26 -> 7829000000 | I43: =+D43+E43+F43+G43+H43 -> 9591500000 | J43: =(+D43)/I43 -> 0.17551999 | K43: =(+E43+F43+G43+H43)/I43 -> 0.82448001
A44: =+A27 -> Skywest Inc | B44: =+B27 -> SKYW | C44: =+C27 -> AirTrans | D44: =(+H27)*G27 -> 4.0034955e+09 | E44: =(1/1)*I27 -> 0 | F44: =+G75 -> 19629000 | G44: 0 | H44: =(2376943/2408369)*J27 -> 2.3608705e+09 | I44: =+D44+E44+F44+G44+H44 -> 6.383995e+09 | J44: =(+D44)/I44 -> 0.62711445 | K44: =(+E44+F44+G44+H44)/I44 -> 0.37288555
A45: =+A28 -> Southwest Airlines | B45: =+B28 -> LUV | C45: =+C28 -> AirTrans | D45: =(+H28)*G28 -> 2.1308979e+10 | E45: =(1/1)*I28 -> 0 | F45: =+G76 -> 1080000000 | G45: 0 | H45: =(297000000+108000000+296000000+1749000000+752000000+465000000+719000000+433000000)/(300000000+104000000+300000000+1727000000+750000000+500000000+734000000+426000000)*J28 -> 4.8787273e+09 | I45: =+D45+E45+F45+G45+H45 -> 2.7267706e+10 | J45: =(+D45)/I45 -> 0.7814731 | K45: =(+E45+F45+G45+H45)/I45 -> 0.2185269
A46: =+A29 -> United Airlines Holdings Inc | B46: =+B29 -> UAL | C46: =+C29 -> AirTrans | D46: =(+H29)*G29 -> 3.6170492e+10 | E46: =(1/1)*I29 -> 0 | F46: =+G77 -> 6048000000 | G46: 0 | H46: =(21489/21266)*J29 -> 2.525003e+10 | I46: =+D46+E46+F46+G46+H46 -> 6.7468521e+10 | J46: =(+D46)/I46 -> 0.53610915 | K46: =(+E46+F46+G46+H46)/I46 -> 0.46389085
I47: High | J47: =MAX(J39:J46) -> 0.7814731 | K47: =MAX(K39:K46) -> 0.82448001
I48: Low | J48: =MIN(J39:J46) -> 0.17551999 | K48: =MIN(K39:K46) -> 0.2185269
I49: Median | J49: =MEDIAN(J39:J46) -> 0.50205475 | K49: =MEDIAN(K39:K46) -> 0.49794525
I50: Mean | J50: =AVERAGE(J39:J46) -> 0.49449087 | K50: =AVERAGE(K39:K46) -> 0.50550913
I52: Selected > | J52: 0.49 | K52: 0.51
A56: Notes:
A57: The capital structure of this industry is a representative or typical capital structure of the group, not that of the present owner. The capital structure selected reflects the most likely arrangement of a prospective buyer.
A58: * Outstanding stock shares are generally already net of Treasury stock shares
A59: ** Debt includes LT Debt , Current portion of LT Debt, and Finance leases from 10K
A60: *** Market value of preferred stock assumed to equal book value
...

Sheet Market to Book Ratios
A1: KENTUCKY DEPARTMENT OF REVENUE
A2: DIVISION OF STATE VALUATION, PUBLIC SERVICE BRANCH
A3: 2026 Tax Year
A9: =+'S&D'!A12 -> Air Passenger Carriers | E9: Market to Book Ratios - Obsolescence Measurement
E10: YEAR END 12/31/2025
B17: Ticker | C17: Industry | F17: Market to
B18: Symbol | C18: Group | D18: Common Total Equity | E18: Common Total Equity | F18: Book Ratio
A19: Company | D19: Market Value | E19: Book Value
A20: VL | B20: VL | C20: VL | D20: VL | E20: 10K
A22: =+'S&D'!A22 -> Alaska Air | B22: =+'S&D'!B22 -> ALK | C22: =+'S&D'!C22 -> AirTrans | D22: =+'S&D'!D39 -> 5.8112037e+09 | E22: 4118000000 | F22: =+D22/E22 -> 1.4111714
A23: =+'S&D'!A23 -> Allegiant Travel Co. | B23: =+'S&D'!B23 -> ALGT | C23: =+'S&D'!C23 -> AirTrans | D23: =+'S&D'!D40 -> 1.5670696e+09 | E23: 1052677000 | F23: =+D23/E23 -> 1.4886519
A24: =+'S&D'!A24 -> American Airlines | B24: =+'S&D'!B24 -> AAL | C24: =+'S&D'!C24 -> AirTrans | D24: =+'S&D'!D41 -> 1.0122416e+10 | E24: -3727000000 | F24: =+D24/E24 -> -2.7159688
A25: =+'S&D'!A25 -> Delta Air Lines | B25: =+'S&D'!B25 -> DAL | C25: =+'S&D'!C25 -> AirTrans | D25: =+'S&D'!D42 -> 4.5330084e+10 | E25: =20853000000 -> 20853000000 | F25: =+D25/E25 -> 2.173792
A26: =+'S&D'!A26 -> JetBlue Airways | B26: =+'S&D'!B26 -> JBLU | C26: =+'S&D'!C26 -> AirTrans | D26: =+'S&D'!D43 -> 1683500000 | E26: 2120000000 | F26: =+D26/E26 -> 0.79410377
A27: =+'S&D'!A27 -> Skywest Inc | B27: =+'S&D'!B27 -> SKYW | C27: =+'S&D'!C27 -> AirTrans | D27: =+'S&D'!D44 -> 4.0034955e+09 | E27: 2746433000 | F27: =+D27/E27 -> 1.4577073
A28: =+'S&D'!A28 -> Southwest Airlines | B28: =+'S&D'!B28 -> LUV | C28: =+'S&D'!C28 -> AirTrans | D28: =+'S&D'!D45 -> 2.1308979e+10 | E28: 7981000000 | F28: =+D28/E28 -> 2.6699636
A29: =+'S&D'!A29 -> United Airlines Holdings Inc | B29: =+'S&D'!B29 -> UAL | C29: =+'S&D'!C29 -> AirTrans | D29: =+'S&D'!D46 -> 3.6170492e+10 | E29: 15282000000 | F29: =+D29/E29 -> 2.366869
E30: AVERAGE | F30: =AVERAGE(F22:F29) -> 1.2057863
B36: Ticker | C36: Industry | F36: Market to
B37: Symbol | C37: Group | D37: Long Term Debt | E37: Long Term Debt | F37: Book Ratio
A38: Company | D38: Market Value | E38: Book Value
A39: VL | B39: VL | C39: VL | D39: 10K | E39: 10K
A41: =+A22 -> Alaska Air | B41: =+B22 -> ALK | C41: =+C22 -> AirTrans | D41: =+'S&D'!H39 -> 5.0218892e+09 | E41: =+'S&D'!J22 -> 5031000000 | F41: =+D41/E41 -> 0.99818906
A42: =+A23 -> Allegiant Travel Co. | B42: =+B23 -> ALGT | C42: =+C23 -> AirTrans | D42: =+'S&D'!H40 -> 1.8136823e+09 | E42: =+'S&D'!J23 -> 1799616000 | F42: =+D42/E42 -> 1.0078163
A43: =+A24 -> American Airlines | B43: =+B24 -> AAL | C43: =+C24 -> AirTrans | D43: =+'S&D'!H41 -> 2.8306085e+10 | E43: =+'S&D'!J24 -> 28007000000 | F43: =+D43/E43 -> 1.0106789
A44: =+A25 -> Delta Air Lines | B44: =+B25 -> DAL | C44: =+C25 -> AirTrans | D44: =+'S&D'!H42 -> 1.4209558e+10 | E44: =+'S&D'!J25 -> 14112000000 | F44: =+D44/E44 -> 1.0069131
A45: =+A26 -> JetBlue Airways | B45: =+B26 -> JBLU | C45: =+C26 -> AirTrans | D45: =+'S&D'!H43 -> 7829000000 | E45: =+'S&D'!J26 -> 8498000000 | F45: =+D45/E45 -> 0.92127559
A46: =+A27 -> Skywest Inc | B46: =+B27 -> SKYW | C46: =+C27 -> AirTrans | D46: =+'S&D'!H44 -> 2.3608705e+09 | E46: =+'S&D'!J27 -> 2392084000 | F46: =+D46/E46 -> 0.98695134
A47: =+A28 -> Southwest Airlines | B47: =+B28 -> LUV | C47: =+C28 -> AirTrans | D47: =+'S&D'!H45 -> 4.8787273e+09 | E47: =+'S&D'!J28 -> 4901000000 | F47: =+D47/E47 -> 0.99545548
A48: =+A29 -> United Airlines Holdings Inc | B48: =+B29 -> UAL | C48: =+C29 -> AirTrans | D48: =+'S&D'!H46 -> 2.525003e+10 | E48: =+'S&D'!J29 -> 24988000000 | F48: =+D48/E48 -> 1.0104862
E49: AVERAGE | F49: =AVERAGE(F41:F48) -> 0.99222075
C54: Capital | D54: Market
C55: Structure | D55: to Book | E55: Composite
A56: EQUITY | C56: =+'Yield CapRate'!C23 -> 0.49 | D56: =+F30 -> 1.2057863 | E56: =+C56*D56 -> 0.59083527
A57: DEBT | B57: ='S&D'!J36 | C57: =+'Yield CapRate'!C25 -> 0.51 | D57: =+F49 -> 0.99222075 | E57: =+C57*D57 -> 0.50603258
D58: Total | E58: =+E56+E57 -> 1.0968679
A61: A market to book ratio over one would be an indication of no obsolescence.
A62: Common Total Equity excludes 'noncontrolling interests' equity value.

Sheet Maintenance CapEx
A1: KENTUCKY DEPARTMENT OF REVENUE
A2: DIVISION OF STATE VALUATION, PUBLIC SERVICE BRANCH
A3: 2026 Tax Year
A8: =+'S&D'!A12 -> Air Passenger Carriers | G8: Maintenance Capital Expenditures
G9: Estimate using Guideline Companies
G10: YEAR END 12/31/2025
A14: A | B14: B | C14: C | D14: D | E14: E | F14: F | G14: G | H14: H | I14: I | J14: J | K14: K | L14: L
B15: Ticker | C15: Inflation | D15: PP&E Gross | E15: PP&E Gross | F15: PP&E | G15: Depreciation | H15: Average Life of | I15: * | J15: * | K15: Replacement | L15: RC as % of
A16: Company | B16: Symbol | C16: Rate % | D16: Current Year | E16: Previous Year | F16: Average | G16: Expense | H16: Assets | K16: Cost | L16: Depreciation
A17: VL | B17: VL | C17: CPI | D17: 10K Balance Sheet | E17: 10K Balance Sheet | F17: (D+E)/2 | G17: 10K Income Statement | H17: F/G | I17: C*H | J17: 1/(1=C)^H | K17: (G*I) / (1-J) | L17: K/G
A20: =+'S&D'!A22 -> Alaska Air | B20: =+'S&D'!B22 -> ALK | C20: =+'Growth & Inflation Rates'!$D$56 -> 0.0228 | D20: =11857000000+4945000000 -> 16802000000 | E20: 15329000000 | F20: =(D20+E20)/2 -> 16065500000 | G20: 795000000 | H20: =+F20/G20 -> 20.208176 | I20: =+C20*H20 -> 0.46074642 | J20: =1/(1+C20)^H20 -> 0.63408491 | K20: =(G20*I20)/(1-J20) -> 1.0010339e+09 | L20: =+K20/G20 -> 1.2591621
A21: =+'S&D'!A23 -> Allegiant Travel Co. | B21: =+'S&D'!B23 -> ALGT | C21: =+'Growth & Inflation Rates'!$D$56 -> 0.0228 | D21: =2947536000+1178315000 -> 4125851000 | E21: 4137143000 | F21: =(D21+E21)/2 -> 4131497000 | G21: 249185000 | H21: =+F21/G21 -> 16.580039 | I21: =+C21*H21 -> 0.37802489 | J21: =1/(1+C21)^H21 -> 0.68812842 | K21: =(G21*I21)/(1-J21) -> 3.0204141e+08 | L21: =+K21/G21 -> 1.2121171
A22: =+'S&D'!A24 -> American Airlines | B22: =+'S&D'!B24 -> AAL | C22: =+'Growth & Inflation Rates'!$D$56 -> 0.0228 | D22: 57732000000 | E22: 54735000000 | F22: =(D22+E22)/2 -> 56233500000 | G22: 2219000000 | H22: =+F22/G22 -> 25.341821 | I22: =+C22*H22 -> 0.57779351 | J22: =1/(1+C22)^H22 -> 0.56478785 | K22: =(G22*I22)/(1-J22) -> 2.9459743e+09 | L22: =+K22/G22 -> 1.3276135
A23: =+'S&D'!A25 -> Delta Air Lines | B23: =+'S&D'!B25 -> DAL | C23: =+'Growth & Inflation Rates'!$D$56 -> 0.0228 | D23: =39743000000+24719000000 -> 64462000000 | E23: =37595000000+23228000000 -> 60823000000 | F23: =(D23+E23)/2 -> 62642500000 | G23: 2443000000 | H23: =+F23/G23 -> 25.641629 | I23: =+C23*H23 -> 0.58462914 | J23: =1/(1+C23)^H23 -> 0.56098339 | K23: =(G23*I23)/(1-J23) -> 3.2532915e+09 | L23: =+K23/G23 -> 1.3316789
A24: =+'S&D'!A26 -> JetBlue Airways | B24: =+'S&D'!B26 -> JBLU | C24: =+'Growth & Inflation Rates'!$D$56 -> 0.0228 | D24: =1534000000+1377000000 -> 2911000000 | E24: =14418000000+1342000000 -> 15760000000 | F24: =(D24+E24)/2 -> 9335500000 | G24: 688000000 | H24: =+F24/G24 -> 13.569041 | I24: =+C24*H24 -> 0.30937413 | J24: =1/(1+C24)^H24 -> 0.73646028 | K24: =(G24*I24)/(1-J24) -> 8.0765587e+08 | L24: =+K24/G24 -> 1.1739184
A25: =+'S&D'!A27 -> Skywest Inc | B25: =+'S&D'!B27 -> SKYW | C25: =+'Growth & Inflation Rates'!$D$56 -> 0.0228 | D25: 9730911000 | E25: 9132864000 | F25: =(D25+E25)/2 -> 9431887500 | G25: 364497000 | H25: =+F25/G25 -> 25.876448 | I25: =+C25*H25 -> 0.589983 | J25: =1/(1+C25)^H25 -> 0.55802154 | K25: =(G25*I25)/(1-J25) -> 4.8655547e+08 | L25: =+K25/G25 -> 1.3348682
A26: =+'S&D'!A28 -> Southwest Airlines | B26: =+'S&D'!B28 -> LUV | C26: =+'Growth & Inflation Rates'!$D$56 -> 0.0228 | D26: 35945000000 | E26: 33947000000 | F26: =(D26+E26)/2 -> 34946000000 | G26: 1560000000 | H26: =+F26/G26 -> 22.401282 | I26: =+C26*H26 -> 0.51074923 | J26: =1/(1+C26)^H26 -> 0.6034973 | K26: =(G26*I26)/(1-J26) -> 2.0094915e+09 | L26: =+K26/G26 -> 1.2881356
A27: =+'S&D'!A29 -> United Airlines Holdings Inc | B27: =+'S&D'!B29 -> UAL | C27: =+'Growth & Inflation Rates'!$D$56 -> 0.0228 | D27: 73586000000 | E27: 68031000000 | F27: =(D27+E27)/2 -> 70808500000 | G27: 2939000000 | H27: =+F27/G27 -> 24.092719 | I27: =+C27*H27 -> 0.54931398 | J27: =1/(1+C27)^H27 -> 0.58091816 | K27: =(G27*I27)/(1-J27) -> 3.8523115e+09 | L27: =+K27/G27 -> 1.3107559
K29: High | L29: =MAX(L20:L27) -> 1.3348682
K30: Low | L30: =MIN(L20:L27) -> 1.1739184
K31: Median | L31: =MEDIAN(L20:L27) -> 1.2994457
K32: Mean | L32: =AVERAGE(L20:L27) -> 1.2797812
K34: Selected > | L34: 1.2798
A37: Notes:
A38: *Cornell, B. & Gerger, R. (2017) Estimating Terminal Values with Inflation : The Inputs Matter - It is Not a Formulaic Exercise. Business Valuation Review, Vol.36, Number 4, 117-123.
A40: Property, Plant & Equipment includes CWIP, but should exclude intangibles and the associated amortization.
A42: KENTUCKY DEPARTMENT OF REVENUE
A43: DIVISION OF STATE VALUATION, PUBLIC SERVICE BRANCH
A44: 2026 Tax Year
G49: Maintenance Capital Expenditures and Change in Working Capital
G50: YEAR END 12/31/2025
A55: g = b X ROE | C55: The plowback ratio is multiplied by Net Cash Flow to estimate the amount of additional capital expenditures needed to achieve projected results.
A56: b = g / ROE | C56: It is assumed that the ROE is a fixed (unchanging) rate.
A57: g = LT growth rate
A58: b = reinvestment rate
A59: ROE = Return on equity (or return on investment)
A65: Aswath Damodaran's model to determine the Reinvesment Rate >
A67: Reinvestment Rate = | D67: Capital Expenditures - Depreciation + Change in Working Capital
D68: EBIT (1-Tax Rate)

Sheet Beta for CAPM
A1: KENTUCKY DEPARTMENT OF REVENUE
A2: DIVISION OF STATE VALUATION, PUBLIC SERVICE BRANCH
A3: 2026 Tax Year
A8: =+'S&D'!A12 -> Air Passenger Carriers
E9: BETA SELECTION for CAPM
E10: YEAR END 12/31/2025
B13: Ticker | C13: Industry | D13: Actual | E13: Return on | F13: Retained to | G13: Financial | H13: Levered Beta
A14: Company | B14: Symbol | C14: Group | D14: Tax Rate | E14: Shareholders Equity | F14: Common Equity | G14: Strength | H14: Current
A15: VL | B15: VL | C15: VL | D15: VL | E15: Vl Projected 2026 | F15: Vl Projected 2026 | G15: VL | H15: Vl Projected 2026
A18: =+'S&D'!A22 -> Alaska Air | B18: =+'S&D'!B22 -> ALK | C18: =+'S&D'!C22 -> AirTrans | D18: 0.27 | E18: 0.215 | F18: 0.215 | G18: B+ | H18: 1.35
A19: =+'S&D'!A23 -> Allegiant Travel Co. | B19: =+'S&D'!B23 -> ALGT | C19: =+'S&D'!C23 -> AirTrans | D19: 0.25 | E19: 0.15 | F19: 0.15 | G19: B+ | H19: 1.5
A20: =+'S&D'!A24 -> American Airlines | B20: =+'S&D'!B24 -> AAL | C20: =+'S&D'!C24 -> AirTrans | D20: 0.25 | E20: NMF | F20: NMF | G20: B | H20: 1.4
A21: =+'S&D'!A25 -> Delta Air Lines | B21: =+'S&D'!B25 -> DAL | C21: =+'S&D'!C25 -> AirTrans | D21: 0.245 | E21: 0.19 | F21: 0.17 | G21: B++ | H21: 1.45
A22: =+'S&D'!A26 -> JetBlue Airways | B22: =+'S&D'!B26 -> JBLU | C22: =+'S&D'!C26 -> AirTrans | D22: NMF | E22: NMF | F22: NMF | G22: C++ | H22: 1.6
A23: =+'S&D'!A27 -> Skywest Inc | B23: =+'S&D'!B27 -> SKYW | C23: =+'S&D'!C27 -> AirTrans | D23: 0.25 | E23: 0.135 | F23: 0.135 | G23: B++ | H23: 1.45
A24: =+'S&D'!A28 -> Southwest Airlines | B24: =+'S&D'!B28 -> LUV | C24: =+'S&D'!C28 -> AirTrans | D24: 0.23 | E24: 0.155 | F24: 0.1 | G24: B++ | H24: 1.3
A25: =+'S&D'!A29 -> United Airlines Holdings Inc | B25: =+'S&D'!B29 -> UAL | C25: =+'S&D'!C29 -> AirTrans | D25: 0.23 | E25: 0.26 | F25: 0.26 | G25: B+ | H25: 1.6
G27: High | H27: =MAX(H18:H25) -> 1.6
G28: Low | H28: =MIN(H18:H25) -> 1.3
G29: Median | H29: =MEDIAN(H18:H26) -> 1.45
G30: Mean | H30: =AVERAGE(H18:H26) -> 1.45625
G32: Selected | H32: 1.46
A35: Return on Shareholders Equity -- Annual net profit divided by year-end shareholders equity, expressed as a percentage.
A36: Retained to Common Equity -- Net profit less all common and preferred dividends divided by common equity including intangible assets, expressed as a percentage. Also known as the plowback ratio.

Sheet Dividends 
A1: KENTUCKY DEPARTMENT OF REVENUE
A2: DIVISION OF STATE VALUATION, PUBLIC SERVICE BRANCH
A3: 2026 Tax Year
A6: =+'S&D'!A12 -> Air Passenger Carriers
E7: Dividend Data
E8: YEAR END 12/31/2025
B10: Ticker | C10: Industry | D10: Stock | E10: Dividends | F10: Dividend | G10: Dividends | H10: Dividend | I10: Dividends | J10: Dividend | K10: Short Term
B11: Symbol | C11: Group | D11: Price | E11: Per Share | F11: Yield | G11: Per Share | H11: Yield | I11: Per Share | J11: Yield | K11: Growth Rate
A12: Company | E12: Historic | F12: Historic | G12: 1 Yr Projected | H12: 1 Yr Projected | I12: 3-5 Yr Projected | J12: 3-5 Yr Projected | K12: (1)
A13: VL | B13: VL | C13: VL | D13: Year End | E13: VL | F13: Calculated | G13: VL | H13: Calculated | I13: VL | J13: Calculated | K13: Calculated
A16: =+'S&D'!A22 -> Alaska Air | B16: =+'S&D'!B22 -> ALK | C16: =+'S&D'!C22 -> AirTrans | D16: =+'S&D'!G22 -> 50.3 | E16: Nil | F16: NA | G16: Nil | H16: NA | I16: 0.6 | J16: =+I16/D16 -> 0.011928429 | K16: NA
A17: =+'S&D'!A23 -> Allegiant Travel Co. | B17: =+'S&D'!B23 -> ALGT | C17: =+'S&D'!C23 -> AirTrans | D17: =+'S&D'!G23 -> 85.27 | E17: Nil | F17: NA | G17: 0.1 | H17: =+G17/D17 -> 0.0011727454 | I17: 0.6 | J17: =+I17/D17 -> 0.0070364724 | K17: =RATE(3,,-G17,I17) -> 0.81712059
A18: =+'S&D'!A24 -> American Airlines | B18: =+'S&D'!B24 -> AAL | C18: =+'S&D'!C24 -> AirTrans | D18: =+'S&D'!G24 -> 15.33 | E18: Nil | F18: NA | G18: Nil | H18: NA | I18: Nil | J18: NA | K18: NA
A19: =+'S&D'!A25 -> Delta Air Lines | B19: =+'S&D'!B25 -> DAL | C19: =+'S&D'!C25 -> AirTrans | D19: =+'S&D'!G25 -> 69.4 | E19: 0.75 | F19: =+E19/D19 -> 0.010806916 | G19: 0.85 | H19: =+G19/D19 -> 0.012247839 | I19: 1 | J19: =+I19/D19 -> 0.014409222 | K19: =RATE(3,,-G19,I19) -> 0.055667192
A20: =+'S&D'!A26 -> JetBlue Airways | B20: =+'S&D'!B26 -> JBLU | C20: =+'S&D'!C26 -> AirTrans | D20: =+'S&D'!G26 -> 4.55 | E20: Nil | F20: NA | G20: Nil | H20: NA | I20: Nil | J20: NA | K20: NA
A21: =+'S&D'!A27 -> Skywest Inc | B21: =+'S&D'!B27 -> SKYW | C21: =+'S&D'!C27 -> AirTrans | D21: =+'S&D'!G27 -> 100.41 | E21: Nil | F21: NA | G21: Nil | H21: NA | I21: 0.32 | J21: =+I21/D21 -> 0.0031869336 | K21: NA
A22: =+'S&D'!A28 -> Southwest Airlines | B22: =+'S&D'!B28 -> LUV | C22: =+'S&D'!C28 -> AirTrans | D22: =+'S&D'!G28 -> 41.33 | E22: 0.72 | F22: =+E22/D22 -> 0.01742076 | G22: 0.76 | H22: =+G22/D22 -> 0.01838858 | I22: 1.3 | J22: =+I22/D22 -> 0.03145415 | K22: =RATE(3,,-G22,I22) -> 0.19594145
A23: =+'S&D'!A29 -> United Airlines Holdings Inc | B23: =+'S&D'!B29 -> UAL | C23: =+'S&D'!C29 -> AirTrans | D23: =+'S&D'!G29 -> 111.82 | E23: Nil | F23: NA | G23: Nil | H23: NA | I23: Nil | J23: NA | K23: NA
D25: High | E25: =MAX(E16:E23) -> 0.75 | F25: =MAX(F16:F23) -> 0.01742076 | G25: =MAX(G16:G23) -> 0.85 | H25: =MAX(H16:H23) -> 0.01838858 | I25: =MAX(I16:I23) -> 1.3 | J25: =MAX(J16:J23) -> 0.03145415 | K25: =MAX(K16:K23) -> 0.81712059
D26: Low | E26: =MIN(E16:E23) -> 0.72 | F26: =MIN(F16:F23) -> 0.010806916 | G26: =MIN(G16:G23) -> 0.1 | H26: =MIN(H16:H23) -> 0.0011727454 | I26: =MIN(I16:I23) -> 0.32 | J26: =MIN(J16:J23) -> 0.0031869336 | K26: =MIN(K16:K23) -> 0.055667192
D27: Median | E27: =MEDIAN(E16:E23) -> 0.735 | F27: =MEDIAN(F16:F23) -> 0.014113838 | G27: =MEDIAN(G16:G23) -> 0.76 | H27: =MEDIAN(H16:H23) -> 0.012247839 | I27: =MEDIAN(I16:I23) -> 0.6 | J27: =MEDIAN(J16:J23) -> 0.011928429 | K27: =MEDIAN(K16:K23) -> 0.19594145
D28: Mean | E28: =AVERAGE(E16:E23) -> 0.735 | F28: =AVERAGE(F16:F23) -> 0.014113838 | G28: =AVERAGE(G16:G23) -> 0.57 | H28: =AVERAGE(H16:H23) -> 0.010603055 | I28: =AVERAGE(I16:I23) -> 0.764 | J28: =AVERAGE(J16:J23) -> 0.013603041 | K28: =AVERAGE(K16:K23) -> 0.35624308
A31: (1) 4 Year compound annual growth rate (CAGR) - 3 periods

Sheet Earnings
A1: KENTUCKY DEPARTMENT OF REVENUE
A2: DIVISION OF STATE VALUATION, PUBLIC SERVICE BRANCH
A3: 2026 Tax Year
A6: =+'S&D'!A12 -> Air Passenger Carriers
E7: Earnings Data
E8: YEAR END 12/31/2025
B10: Ticker | C10: Industry | D10: Stock | E10: Earnings | F10: Earnings | G10: Earnings | H10: Earnings | I10: Earnings | J10: Earnings | K10: Short Term
B11: Symbol | C11: Group | D11: Price | E11: Per Share | F11: Yield | G11: Per Share | H11: Yield | I11: Per Share | J11: Yield | K11: Growth Rate
A12: Company | E12: Historic | F12: Historic | G12: 1 Yr Projected | H12: 1 Yr Projected | I12: 3-5 Yr Projected | J12: 3-5 Yr Projected | K12: (1)
A13: VL | B13: VL | C13: VL | D13: Year End | E13: VL | F13: Calculated | G13: VL | H13: Calculated | I13: VL | J13: Calculated | K13: Calculated
A16: =+'S&D'!A22 -> Alaska Air | B16: =+'S&D'!B22 -> ALK | C16: =+'S&D'!C22 -> AirTrans | D16: =+'S&D'!G22 -> 50.3 | E16: 5.5 | F16: =+E16/D16 -> 0.10934394 | G16: 8.5 | H16: =+G16/D16 -> 0.16898608 | I16: 14 | J16: =+I16/D16 -> 0.27833002 | K16: =RATE(3,,-G16,I16) -> 0.18096321
A17: =+'S&D'!A23 -> Allegiant Travel Co. | B17: =+'S&D'!B23 -> ALGT | C17: =+'S&D'!C23 -> AirTrans | D17: =+'S&D'!G23 -> 85.27 | E17: 7 | F17: =+E17/D17 -> 0.082092178 | G17: 9.65 | H17: =+G17/D17 -> 0.11316993 | I17: 20.75 | J17: =+I17/D17 -> 0.24334467 | K17: =RATE(3,,-G17,I17) -> 0.29071472
A18: =+'S&D'!A24 -> American Airlines | B18: =+'S&D'!B24 -> AAL | C18: =+'S&D'!C24 -> AirTrans | D18: =+'S&D'!G24 -> 15.33 | E18: 2.4 | F18: =+E18/D18 -> 0.15655577 | G18: 2.9 | H18: =+G18/D18 -> 0.18917156 | I18: 3.8 | J18: =+I18/D18 -> 0.24787997 | K18: =RATE(3,,-G18,I18) -> 0.094280179
A19: =+'S&D'!A25 -> Delta Air Lines | B19: =+'S&D'!B25 -> DAL | C19: =+'S&D'!C25 -> AirTrans | D19: =+'S&D'!G25 -> 69.4 | E19: 7.3 | F19: =+E19/D19 -> 0.10518732 | G19: 8.4 | H19: =+G19/D19 -> 0.12103746 | I19: 9.5 | J19: =+I19/D19 -> 0.13688761 | K19: =RATE(3,,-G19,I19) -> 0.041872975
A20: =+'S&D'!A26 -> JetBlue Airways | B20: =+'S&D'!B26 -> JBLU | C20: =+'S&D'!C26 -> AirTrans | D20: =+'S&D'!G26 -> 4.55 | E20: 0.3 | F20: =+E20/D20 -> 0.065934066 | G20: 0.1 | H20: =+G20/D20 -> 0.021978022 | I20: 1.5 | J20: =+I20/D20 -> 0.32967033 | K20: =RATE(3,,-G20,I20) -> 1.4662121
A21: =+'S&D'!A27 -> Skywest Inc | B21: =+'S&D'!B27 -> SKYW | C21: =+'S&D'!C27 -> AirTrans | D21: =+'S&D'!G27 -> 100.41 | E21: 11 | F21: =+E21/D21 -> 0.10955084 | G21: 12 | H21: =+G21/D21 -> 0.11951001 | I21: 15 | J21: =+I21/D21 -> 0.14938751 | K21: =RATE(3,,-G21,I21) -> 0.077217345
A22: =+'S&D'!A28 -> Southwest Airlines | B22: =+'S&D'!B28 -> LUV | C22: =+'S&D'!C28 -> AirTrans | D22: =+'S&D'!G28 -> 41.33 | E22: 4.1 | F22: =+E22/D22 -> 0.099201549 | G22: 4.65 | H22: =+G22/D22 -> 0.11250907 | I22: 3.75 | J22: =+I22/D22 -> 0.090733124 | K22: =RATE(3,,-G22,I22) -> -0.069193434
A23: =+'S&D'!A29 -> United Airlines Holdings Inc | B23: =+'S&D'!B29 -> UAL | C23: =+'S&D'!C29 -> AirTrans | D23: =+'S&D'!G29 -> 111.82 | E23: 13.35 | F23: =+E23/D23 -> 0.1193883 | G23: 15.5 | H23: =+G23/D23 -> 0.13861563 | I23: 16 | J23: =+I23/D23 -> 0.1430871 | K23: =RATE(3,,-G23,I23) -> 0.010639096
D24: High | E24: =MAX(E16:E23) -> 13.35 | F24: =MAX(F16:F23) -> 0.15655577 | G24: =MAX(G16:G23) -> 15.5 | H24: =MAX(H16:H23) -> 0.18917156 | I24: =MAX(I16:I23) -> 20.75 | J24: =MAX(J16:J23) -> 0.32967033 | K24: =MAX(K16:K23) -> 1.4662121
D25: Low | E25: =MIN(E16:E23) -> 0.3 | F25: =MIN(F16:F23) -> 0.065934066 | G25: =MIN(G16:G23) -> 0.1 | H25: =MIN(H16:H23) -> 0.021978022 | I25: =MIN(I16:I23) -> 1.5 | J25: =MIN(J16:J23) -> 0.090733124 | K25: =MIN(K16:K23) -> -0.069193434
D26: Median | E26: =MEDIAN(E16:E23) -> 6.25 | F26: =MEDIAN(F16:F23) -> 0.10726563 | G26: =MEDIAN(G16:G23) -> 8.45 | H26: =MEDIAN(H16:H23) -> 0.12027374 | I26: =MEDIAN(I16:I23) -> 11.75 | J26: =MEDIAN(J16:J23) -> 0.19636609 | K26: =MEDIAN(K16:K23) -> 0.085748762
D27: Mean | E27: =AVERAGE(E16:E23) -> 6.36875 | F27: =AVERAGE(F16:F23) -> 0.10590675 | G27: =AVERAGE(G16:G23) -> 7.7125 | H27: =AVERAGE(H16:H23) -> 0.12312222 | I27: =AVERAGE(I16:I23) -> 10.5375 | J27: =AVERAGE(J16:J23) -> 0.20241504 | K27: =AVERAGE(K16:K23) -> 0.26158827
A30: (1) 4 Year compound annual growth rate (CAGR) - 3 periods

Sheet Debt
A1: KENTUCKY DEPARTMENT OF REVENUE
A2: DIVISION OF STATE VALUATION, PUBLIC SERVICE BRANCH
A3: 2026 Tax Year
A6: =+'S&D'!A12 -> Air Passenger Carriers
E7: DEBT RATE for Direct and Yield Approach
E8: YEAR END 12/31/2025
B10: Ticker | C10: Industry | D10: Actual | E10: Financial | F10: S & P | G10: Numeric | H10: Moody's Bond | I10: Numeric | J10: Mergent Bond
A11: Company | B11: Symbol | C11: Group | D11: Tax Rate | E11: Strength | F11: Rating | G11: Rating | H11: Rating | I11: Rating | J11: Debt Rate
A12: VL | B12: VL | C12: VL | D12: VL | E12: VL
A15: =+'S&D'!A22 -> Alaska Air | B15: =+'S&D'!B22 -> ALK | C15: =+'S&D'!C22 -> AirTrans | D15: =+'Beta for CAPM'!D18 -> 0.27 | E15: ='Beta for CAPM'!G18 -> B+ | F15: BB | G15: 14 | H15: Ba1 | I15: =VLOOKUP(H15,$A$35:$E$58,2,0) -> 13 | J15: =VLOOKUP(I15,$B$35:$E$58,3,0) -> 0.0813
A16: =+'S&D'!A23 -> Allegiant Travel Co. | B16: =+'S&D'!B23 -> ALGT | C16: =+'S&D'!C23 -> AirTrans | D16: =+'Beta for CAPM'!D19 -> 0.25 | E16: ='Beta for CAPM'!G19 -> B+ | F16: B+ | G16: 16 | H16: Ba3 | I16: =VLOOKUP(H16,$A$35:$E$58,2,0) -> 15 | J16: =VLOOKUP(I16,$B$35:$E$58,3,0) -> 0.0813
A17: =+'S&D'!A24 -> American Airlines | B17: =+'S&D'!B24 -> AAL | C17: =+'S&D'!C24 -> AirTrans | D17: =+'Beta for CAPM'!D20 -> 0.25 | E17: ='Beta for CAPM'!G20 -> B | F17: B+ | G17: 16 | H17: Ba3 | I17: =VLOOKUP(H17,$A$35:$E$58,2,0) -> 15 | J17: =VLOOKUP(I17,$B$35:$E$58,3,0) -> 0.0813
A18: =+'S&D'!A25 -> Delta Air Lines | B18: =+'S&D'!B25 -> DAL | C18: =+'S&D'!C25 -> AirTrans | D18: =+'Beta for CAPM'!D21 -> 0.245 | E18: ='Beta for CAPM'!G21 -> B++ | F18: BBB- | G18: 12 | H18: Baa2 | I18: =VLOOKUP(H18,$A$35:$E$58,2,0) -> 11 | J18: =VLOOKUP(I18,$B$35:$E$58,3,0) -> 0.059
A19: =+'S&D'!A26 -> JetBlue Airways | B19: =+'S&D'!B26 -> JBLU | C19: =+'S&D'!C26 -> AirTrans | D19: =+'Beta for CAPM'!D22 -> NMF | E19: ='Beta for CAPM'!G22 -> C++ | F19: CCC+ | G19: 19 | H19: Caa2 | I19: =VLOOKUP(H19,$A$35:$E$58,2,0) -> 20 | J19: =VLOOKUP(I19,$B$35:$E$58,3,0) -> 0.0985
A20: =+'S&D'!A27 -> Skywest Inc | B20: =+'S&D'!B27 -> SKYW | C20: =+'S&D'!C27 -> AirTrans | D20: =+'Beta for CAPM'!D23 -> 0.25 | E20: ='Beta for CAPM'!G23 -> B++ | H20: NA | J20: NA
A21: =+'S&D'!A28 -> Southwest Airlines | B21: =+'S&D'!B28 -> LUV | C21: =+'S&D'!C28 -> AirTrans | D21: =+'Beta for CAPM'!D24 -> 0.23 | E21: ='Beta for CAPM'!G24 -> B++ | F21: BBB | G21: 11 | H21: Baa2 | I21: =VLOOKUP(H21,$A$35:$E$58,2,0) -> 11 | J21: =VLOOKUP(I21,$B$35:$E$58,3,0) -> 0.059
A22: =+'S&D'!A29 -> United Airlines Holdings Inc | B22: =+'S&D'!B29 -> UAL | C22: =+'S&D'!C29 -> AirTrans | D22: =+'Beta for CAPM'!D25 -> 0.23 | E22: ='Beta for CAPM'!G25 -> B+ | F22: BB+ | G22: 13 | H22: Ba1 | I22: 13 | J22: =VLOOKUP(I22,$B$35:$E$58,3,0) -> 0.0813
E24: High | G24: =MAX(G15:G22) -> 19 | I24: =MAX(I15:I22) -> 20 | J24: =MAX(J15:J22) -> 0.0985
E25: Low | G25: =MIN(G15:G22) -> 11 | I25: =MIN(I15:I22) -> 11 | J25: =MIN(J15:J22) -> 0.059
E26: Median | G26: =MEDIAN(G15:G22) -> 14 | I26: =MEDIAN(I15:I22) -> 13 | J26: =MEDIAN(J15:J22) -> 0.0813
E27: Mean | G27: =AVERAGE(G15:G22) -> 14.428571 | I27: =AVERAGE(I15:I22) -> 14 | J27: =AVERAGE(J15:J22) -> 0.077385714
H30: Indicated Rate of Debt > | J30: 0.0774
A33: Bond Rating Scale
A34: Moody's Rating | B34: Scale | C34: S&P Rating | D34: Corporate December Avg | E34: Utility December Avg
A35: Aaa1 | B35: 1 | C35: AAA+ | D35: 0.0531 | E35: 0.0531
A36: Aaa2 | B36: 2 | C36: AAA | D36: 0.0531 | E36: 0.0531 | F36: Obligations rated Aaa are judged to be of the highest quality, with minimal risk.
A37: Aaa3 | B37: 3 | C37: AAA- | D37: 0.0531 | E37: 0.0531
A38: Aa1 | B38: 4 | C38: AA+ | D38: 0.0549 | E38: 0.0557
A39: Aa2 | B39: 5 | C39: AA | D39: 0.0549 | E39: 0.0557 | F39: Obligations rated Aa are judged to be of high quality, with minimal risk.
A40: Aa3 | B40: 6 | C40: AA- | D40: 0.0549 | E40: 0.0557
A41: A1 | B41: 7 | C41: A+ | D41: 0.0563 | E41: 0.0568
A42: A2 | B42: 8 | C42: A | D42: 0.0563 | E42: 0.0568 | F42: Obligations rated A are considered upper-medium-grade and are sub­ject to low credit risk.
A43: A3 | B43: 9 | C43: A- | D43: 0.0563 | E43: 0.0568
A44: Baa1 | B44: 10 | C44: BBB+ | D44: 0.059 | E44: 0.0588
A45: Baa2 | B45: 11 | C45: BBB | D45: 0.059 | E45: 0.0588 | F45: Obligations rated Baa are subject to moderate credit risk. They are considered medium-grade and as such may possess speculative characteristics.
A46: Baa3 | B46: 12 | C46: BBB- | D46: 0.059 | E46: 0.0588
A47: Ba1 | B47: 13 | C47: BB+ | D47: 0.0813 | E47: 0.0814
A48: Ba2 | B48: 14 | C48: BB | D48: 0.0813 | E48: 0.0814 | F48: Obligations rated Ba are judged to have speculative elements and are subject to substantial credit risk.
A49: Ba3 | B49: 15 | C49: BB- | D49: 0.0813 | E49: 0.0814
A50: B1 | B50: 16 | C50: B+ | D50: 0.0899 | E50: 0.09
...

Sheet Direct GCF
A1: KENTUCKY DEPARTMENT OF REVENUE
A2: DIVISION OF STATE VALUATION, PUBLIC SERVICE BRANCH
A3: 2026 Tax Year
A6: =+'S&D'!A12 -> Air Passenger Carriers
D9: GCF CASH FLOW MULTIPLE & EQUITY RATE | K9: GCF CASH FLOW MULTIPLE & EQUITY RATE (1 Yr Projected VL)
D10: YEAR END 12/31/2025 | K10: YEAR END 12/31/2025
B12: Ticker | C12: Share | D12: Gross Cash Flow | E12: Gross Cash Flow | F12: Computed | H12: Ticker | I12: Share | J12: Gross Cash Flow | L12: Gross Cash Flow | M12: Computed
A13: Company | B13: Symbol | C13: Price | D13: Per Share | E13: Multiple | F13: Inverse | H13: Symbol | I13: Price | J13: Per Share | L13: Multiple | M13: Inverse
C14: Year End | D14: VL Historic | I14: Year End | J14: VL Projected
A17: =+'S&D'!A22 -> Alaska Air | B17: =+'S&D'!B22 -> ALK | C17: =+'S&D'!G22 -> 50.3 | D17: 12.6 | E17: =C17/D17 -> 3.9920635 | F17: =1/E17 -> 0.25049702 | H17: =+B17 -> ALK | I17: =+C17 -> 50.3 | J17: 16 | L17: =I17/J17 -> 3.14375 | M17: =1/L17 -> 0.31809145
A18: =+'S&D'!A23 -> Allegiant Travel Co. | B18: =+'S&D'!B23 -> ALGT | C18: =+'S&D'!G23 -> 85.27 | D18: 21.31 | E18: =C18/D18 -> 4.0014078 | F18: =1/E18 -> 0.24991204 | H18: =+B18 -> ALGT | I18: =+C18 -> 85.27 | J18: 23.9 | L18: =I18/J18 -> 3.5677824 | M18: =1/L18 -> 0.28028615
A19: =+'S&D'!A24 -> American Airlines | B19: =+'S&D'!B24 -> AAL | C19: =+'S&D'!G24 -> 15.33 | D19: 5.5 | E19: =C19/D19 -> 2.7872727 | F19: =1/E19 -> 0.35877365 | H19: =+B19 -> AAL | I19: =+C19 -> 15.33 | J19: 6.1 | L19: =I19/J19 -> 2.5131148 | M19: =1/L19 -> 0.39791259
A20: =+'S&D'!A25 -> Delta Air Lines | B20: =+'S&D'!B25 -> DAL | C20: =+'S&D'!G25 -> 69.4 | D20: 11.1 | E20: =C20/D20 -> 6.2522523 | F20: =1/E20 -> 0.15994236 | H20: =+B20 -> DAL | I20: =+C20 -> 69.4 | J20: 12.55 | L20: =I20/J20 -> 5.5298805 | M20: =1/L20 -> 0.18083573
A21: =+'S&D'!A26 -> JetBlue Airways | B21: =+'S&D'!B26 -> JBLU | C21: =+'S&D'!G26 -> 4.55 | D21: 1.4 | E21: =C21/D21 -> 3.25 | F21: =1/E21 -> 0.30769231 | H21: =+B21 -> JBLU | I21: =+C21 -> 4.55 | J21: 1.65 | L21: =I21/J21 -> 2.7575758 | M21: =1/L21 -> 0.36263736
A22: =+'S&D'!A27 -> Skywest Inc | B22: =+'S&D'!B27 -> SKYW | C22: =+'S&D'!G27 -> 100.41 | D22: 20.25 | E22: =C22/D22 -> 4.9585185 | F22: =1/E22 -> 0.20167314 | H22: =+B22 -> SKYW | I22: =+C22 -> 100.41 | J22: 21.25 | L22: =I22/J22 -> 4.7251765 | M22: =1/L22 -> 0.21163231
A23: =+'S&D'!A28 -> Southwest Airlines | B23: =+'S&D'!B28 -> LUV | C23: =+'S&D'!G28 -> 41.33 | D23: 4.25 | E23: =C23/D23 -> 9.7247059 | F23: =1/E23 -> 0.10283087 | H23: =+B23 -> LUV | I23: =+C23 -> 41.33 | J23: 6.3 | L23: =I23/J23 -> 6.5603175 | M23: =1/L23 -> 0.15243165
A24: =+'S&D'!A29 -> United Airlines Holdings Inc | B24: =+'S&D'!B29 -> UAL | C24: =+'S&D'!G29 -> 111.82 | D24: 22.4 | E24: =C24/D24 -> 4.9919643 | F24: =1/E24 -> 0.20032195 | H24: =+B24 -> UAL | I24: =+C24 -> 111.82 | J24: 25.3 | L24: =I24/J24 -> 4.4197628 | M24: =1/L24 -> 0.22625648
C26: High | D26: =MAX(D17:D24) -> 22.4 | E26: =MAX(E17:E24) -> 9.7247059 | F26: =MAX(F17:F24) -> 0.35877365 | I26: High | J26: =MAX(J17:J24) -> 25.3 | L26: =MAX(L17:L24) -> 6.5603175 | M26: =MAX(M17:M24) -> 0.39791259
C27: Low | D27: =MIN(D17:D24) -> 1.4 | E27: =MIN(E17:E24) -> 2.7872727 | F27: =MIN(F17:F24) -> 0.10283087 | I27: Low | J27: =MIN(J17:J24) -> 1.65 | L27: =MIN(L17:L24) -> 2.5131148 | M27: =MIN(M17:M24) -> 0.15243165
C28: Median | E28: =MEDIAN(E17:E24) -> 4.4799632 | F28: =MEDIAN(F17:F24) -> 0.22579259 | I28: Median | J28: =MEDIAN(J17:J24) -> 14.275 | L28: =MEDIAN(L17:L24) -> 3.9937726 | M28: =MEDIAN(M17:M24) -> 0.25327132
C29: Mean | E29: =AVERAGE(E17:E24) -> 4.9947731 | F29: =AVERAGE(F17:F24) -> 0.22895542 | I29: Mean | J29: =AVERAGE(J17:J24) -> 14.13125 | L29: =AVERAGE(L17:L24) -> 4.15217 | M29: =AVERAGE(M17:M24) -> 0.26626047
D31: Selected | E31: 4.99 | F31: 0.229 | J31: Selected | L31: 4.15 | M31: 0.2663
E33: SELECTED AVERAGE > | G33: =(+E31+L31)/2 -> 4.57 | H33: =(+F31+M31)/2 -> 0.24765
A37: Cash flow is typically defined to be net income plus depreciation and amortization.
A38: This measure is considered relevant for companies with high non-cash charges reflected in the income statement. Non-cash charges include depreciation & amortization, goodwill impairments, asset write downs,
A39: stock based compensation, and deferred income taxes and investment tax credits.

Sheet Direct NOPAT
A1: KENTUCKY DEPARTMENT OF REVENUE
A2: DIVISION OF STATE VALUATION, PUBLIC SERVICE BRANCH
A3: 2026 Tax Year
A6: =+'S&D'!A12 -> Air Passenger Carriers
E8: NOPAT CASH FLOW MULTIPLE & EQUITY RATE | K8: NOPAT CASH FLOW MULTIPLE & EQUITY RATE (1 Yr Projected VL)
E9: YEAR END 12/31/2025 | K9: YEAR END 12/31/2025
C11: Ticker | D11: Share | E11: NOPAT Earnings | F11: NOPAT | G11: Computed | I11: Ticker | J11: Share | K11: NOPAT Earnings | L11: NOPAT | M11: Computed
A12: Company | C12: Symbol | D12: Price | E12: Per Share | F12: Multiple | G12: Inverse | I12: Symbol | J12: Price | K12: Per Share | L12: Multiple | M12: Inverse
D13: Year End | E13: VL Historic | J13: Year End | K13: VL Projected NOI
A16: =+'S&D'!A22 -> Alaska Air | C16: =+'S&D'!B22 -> ALK | D16: ='S&D'!G22 -> 50.3 | E16: =+Earnings!E16 -> 5.5 | F16: =D16/E16 -> 9.1454545 | G16: =1/F16 -> 0.10934394 | I16: =+C16 -> ALK | J16: =+D16 -> 50.3 | K16: =+Earnings!G16 -> 8.5 | L16: =J16/K16 -> 5.9176471 | M16: =1/L16 -> 0.16898608
A17: =+'S&D'!A23 -> Allegiant Travel Co. | C17: =+'S&D'!B23 -> ALGT | D17: ='S&D'!G23 -> 85.27 | E17: =+Earnings!E17 -> 7 | F17: =D17/E17 -> 12.181429 | G17: =1/F17 -> 0.082092178 | I17: =+C17 -> ALGT | J17: =+D17 -> 85.27 | K17: =+Earnings!G17 -> 9.65 | L17: =J17/K17 -> 8.8362694 | M17: =1/L17 -> 0.11316993
A18: =+'S&D'!A24 -> American Airlines | C18: =+'S&D'!B24 -> AAL | D18: ='S&D'!G24 -> 15.33 | E18: =+Earnings!E18 -> 2.4 | F18: =D18/E18 -> 6.3875 | G18: =1/F18 -> 0.15655577 | I18: =+C18 -> AAL | J18: =+D18 -> 15.33 | K18: =+Earnings!G18 -> 2.9 | L18: =J18/K18 -> 5.2862069 | M18: =1/L18 -> 0.18917156
A19: =+'S&D'!A25 -> Delta Air Lines | C19: =+'S&D'!B25 -> DAL | D19: ='S&D'!G25 -> 69.4 | E19: =+Earnings!E19 -> 7.3 | F19: =D19/E19 -> 9.5068493 | G19: =1/F19 -> 0.10518732 | I19: =+C19 -> DAL | J19: =+D19 -> 69.4 | K19: =+Earnings!G19 -> 8.4 | L19: =J19/K19 -> 8.2619048 | M19: =1/L19 -> 0.12103746
A20: =+'S&D'!A26 -> JetBlue Airways | C20: =+'S&D'!B26 -> JBLU | D20: ='S&D'!G26 -> 4.55 | E20: =+Earnings!E20 -> 0.3 | F20: =D20/E20 -> 15.166667 | G20: =1/F20 -> 0.065934066 | I20: =+C20 -> JBLU | J20: =+D20 -> 4.55 | K20: =+Earnings!G20 -> 0.1 | L20: =J20/K20 -> 45.5 | M20: =1/L20 -> 0.021978022
A21: =+'S&D'!A27 -> Skywest Inc | C21: =+'S&D'!B27 -> SKYW | D21: ='S&D'!G27 -> 100.41 | E21: =+Earnings!E21 -> 11 | F21: =D21/E21 -> 9.1281818 | G21: =1/F21 -> 0.10955084 | I21: =+C21 -> SKYW | J21: =+D21 -> 100.41 | K21: =+Earnings!G21 -> 12 | L21: =J21/K21 -> 8.3675 | M21: =1/L21 -> 0.11951001
A22: =+'S&D'!A28 -> Southwest Airlines | C22: =+'S&D'!B28 -> LUV | D22: ='S&D'!G28 -> 41.33 | E22: =+Earnings!E22 -> 4.1 | F22: =D22/E22 -> 10.080488 | G22: =1/F22 -> 0.099201549 | I22: =+C22 -> LUV | J22: =+D22 -> 41.33 | K22: =+Earnings!G22 -> 4.65 | L22: =J22/K22 -> 8.888172 | M22: =1/L22 -> 0.11250907
A23: =+'S&D'!A29 -> United Airlines Holdings Inc | C23: =+'S&D'!B29 -> UAL | D23: ='S&D'!G29 -> 111.82 | E23: =+Earnings!E23 -> 13.35 | F23: =D23/E23 -> 8.37603 | G23: =1/F23 -> 0.1193883 | I23: =+C23 -> UAL | J23: =+D23 -> 111.82 | K23: =+Earnings!G23 -> 15.5 | L23: =J23/K23 -> 7.2141935 | M23: =1/L23 -> 0.13861563
D25: High | E25: =MAX(E16:E23) -> 13.35 | F25: =MAX(F16:F23) -> 15.166667 | G25: =MAX(G16:G23) -> 0.15655577 | J25: High | K25: =MAX(K16:K23) -> 15.5 | L25: =MAX(L16:L23) -> 45.5 | M25: =MAX(M16:M23) -> 0.18917156
D26: Low | E26: =MIN(E16:E23) -> 0.3 | F26: =MIN(F16:F23) -> 6.3875 | G26: =MIN(G16:G23) -> 0.065934066 | J26: Low | K26: =MIN(K16:K23) -> 0.1 | L26: =MIN(L16:L23) -> 5.2862069 | M26: =MIN(M16:M23) -> 0.021978022
D27: Median | F27: =MEDIAN(F16:F23) -> 9.3261519 | G27: =MEDIAN(G16:G23) -> 0.10726563 | J27: Median | L27: =MEDIAN(L16:L23) -> 8.3147024 | M27: =MEDIAN(M16:M23) -> 0.12027374
D28: Mean | F28: =AVERAGE(F16:F23) -> 9.9965748 | G28: =AVERAGE(G16:G23) -> 0.10590675 | J28: Mean | L28: =AVERAGE(L16:L23) -> 12.283987 | M28: =AVERAGE(M16:M23) -> 0.12312222
E30: Selected | F30: 10 | G30: 0.1059 | K30: Selected | L30: 12.28 | M30: 0.1231
G33: SELECTED AVERAGE > | I33: =(+F30+L30)/2 -> 11.14 | J33: =(+G30+M30)/2 -> 0.1145
E39: NOPAT CASH FLOW MULTIPLE & EQUITY RATE (LT 27-29 Yr Projected VL)
E40: YEAR END 12/31/2025
C42: Ticker | D42: Share | E42: NOPAT Earnings | F42: NOPAT | G42: Computed
A43: Company | C43: Symbol | D43: Price | E43: Per Share | F43: Multiple | G43: Inverse
D44: Year End | E44: VL LT Projected NOI
A47: =+'S&D'!A22 -> Alaska Air | C47: =+'S&D'!B22 -> ALK | D47: ='S&D'!G22 -> 50.3 | E47: =+Earnings!I16 -> 14 | F47: =D47/E47 -> 3.5928571 | G47: =1/F47 -> 0.27833002
A48: =+'S&D'!A23 -> Allegiant Travel Co. | C48: =+'S&D'!B23 -> ALGT | D48: ='S&D'!G23 -> 85.27 | E48: =+Earnings!I17 -> 20.75 | F48: =D48/E48 -> 4.1093976 | G48: =1/F48 -> 0.24334467
A49: =+'S&D'!A24 -> American Airlines | C49: =+'S&D'!B24 -> AAL | D49: ='S&D'!G24 -> 15.33 | E49: =+Earnings!I18 -> 3.8 | F49: =D49/E49 -> 4.0342105 | G49: =1/F49 -> 0.24787997
A50: =+'S&D'!A25 -> Delta Air Lines | C50: =+'S&D'!B25 -> DAL | D50: ='S&D'!G25 -> 69.4 | E50: =+Earnings!I19 -> 9.5 | F50: =D50/E50 -> 7.3052632 | G50: =1/F50 -> 0.13688761
A51: =+'S&D'!A26 -> JetBlue Airways | C51: =+'S&D'!B26 -> JBLU | D51: ='S&D'!G26 -> 4.55 | E51: =+Earnings!I20 -> 1.5 | F51: =D51/E51 -> 3.0333333 | G51: =1/F51 -> 0.32967033
A52: =+'S&D'!A27 -> Skywest Inc | C52: =+'S&D'!B27 -> SKYW | D52: ='S&D'!G27 -> 100.41 | E52: =+Earnings!I21 -> 15 | F52: =D52/E52 -> 6.694 | G52: =1/F52 -> 0.14938751
A53: =+'S&D'!A28 -> Southwest Airlines | C53: =+'S&D'!B28 -> LUV | D53: ='S&D'!G28 -> 41.33 | E53: =+Earnings!I22 -> 3.75 | F53: =D53/E53 -> 11.021333 | G53: =1/F53 -> 0.090733124
A54: =+'S&D'!A29 -> United Airlines Holdings Inc | C54: =+'S&D'!B29 -> UAL | D54: ='S&D'!G29 -> 111.82 | E54: =+Earnings!I23 -> 16 | F54: =D54/E54 -> 6.98875 | G54: =1/F54 -> 0.1430871
D56: High | E56: =MAX(E47:E54) -> 20.75 | F56: =MAX(F47:F54) -> 11.021333 | G56: =MAX(G47:G54) -> 0.32967033
D57: Low | E57: =MIN(E47:E54) -> 1.5 | F57: =MIN(F47:F54) -> 3.0333333 | G57: =MIN(G47:G54) -> 0.090733124
D58: Median | F58: =MEDIAN(F47:F54) -> 5.4016988 | G58: =MEDIAN(G47:G54) -> 0.19636609
D59: Mean | F59: =AVERAGE(F47:F54) -> 5.8473931 | G59: =AVERAGE(G47:G54) -> 0.20241504
...

Sheet CAPM
A1: KENTUCKY DEPARTMENT OF REVENUE
A2: DIVISION OF STATE VALUATION, PUBLIC SERVICE BRANCH
A3: 2026 Tax Year
A6: =+'S&D'!A12 -> Air Passenger Carriers
E7: CAPITAL ASSET PRICING MODEL (CAPM)
E8: YEAR END 12/31/2025
A13: KE = Rf + (B X ERP)
A14: CAPM Models | B14: Equity Risk Premium (ERP) | C14: Industry Beta (B) | D14: Industry Risk Premium | E14: Risk Free Rate (Rf) | F14: Indicated Equity Rate
A16: Three Stage Ex Ante Version 1 (1) | B16: 0.0294 | C16: =+'Beta for CAPM'!H32 -> 1.46 | D16: =+B16*C16 -> 0.042924 | E16: =+'Growth & Inflation Rates'!$G$24 -> 0.0481 | F16: =+D16+E16 -> 0.091024
A17: Three Stage Ex Ante Version 2 (2) | B17: 0.0298 | C17: =+C16 -> 1.46 | D17: =+B17*C17 -> 0.043508 | E17: =+'Growth & Inflation Rates'!$G$24 -> 0.0481 | F17: =+D17+E17 -> 0.091608
A19: Damodaran Implied ERP Ex Ante Trailing 12 mo Cash Yield (3) | B19: 0.0423 | C19: =+C16 -> 1.46 | D19: =+B19*C19 -> 0.061758 | E19: =+'Growth & Inflation Rates'!$G$24 -> 0.0481 | F19: =+D19+E19 -> 0.109858
A20: Damodaran Implied ERP Ex Ante Avg CF Yield Last 10 Yrs (3) | B20: 0.0618 | C20: =+C16 -> 1.46 | D20: =+B20*C20 -> 0.090228 | E20: =+'Growth & Inflation Rates'!$G$24 -> 0.0481 | F20: =+D20+E20 -> 0.138328
A21: Damodaran Implied ERP Ex Ante Net Cash Yield (3) | B21: 0.0396 | C21: =+C16 -> 1.46 | D21: =+B21*C21 -> 0.057816 | E21: =+'Growth & Inflation Rates'!$G$24 -> 0.0481 | F21: =+D21+E21 -> 0.105916
A22: Damodaran Implied ERP Ex Ante Norm. Earnings & Payout (3) | B22: 0.0362 | C22: =+C16 -> 1.46 | D22: =+B22*C22 -> 0.052852 | E22: =+'Growth & Inflation Rates'!$G$24 -> 0.0481 | F22: =+D22+E22 -> 0.100952
A24: The CFO Survey (4) | B24: 0.0561 | C24: =+C16 -> 1.46 | D24: =+B24*C24 -> 0.081906 | E24: =+'Growth & Inflation Rates'!$G$24 -> 0.0481 | F24: =+D24+E24 -> 0.130006
A26: P. Fernandez, T. Garcia de Santos & J.F.Acin (5) | B26: 0.055 | C26: =+C16 -> 1.46 | D26: =+B26*C26 -> 0.0803 | E26: =+'Growth & Inflation Rates'!$G$24 -> 0.0481 | F26: =+D26+E26 -> 0.1284
A28: BVR - Historical, Arithmetic Mean (6) | B28: 0.0678 | C28: =+C16 -> 1.46 | D28: =+B28*C28 -> 0.098988 | E28: =+'Growth & Inflation Rates'!$G$24 -> 0.0481 | F28: =+D28+E28 -> 0.147088
A29: BVR - Historical, Geometric Mean (7) | B29: 0.0554 | C29: =+C16 -> 1.46 | D29: =+B29*C29 -> 0.080884 | E29: =+'Growth & Inflation Rates'!$G$24 -> 0.0481 | F29: =+D29+E29 -> 0.128984
A31: KROLL Ex Post - ERP Historical (8) | B31: 0.0737 | C31: =+C16 -> 1.46 | D31: =+B31*C31 -> 0.107602 | E31: =+'Growth & Inflation Rates'!$G$24 -> 0.0481 | F31: =+D31+E31 -> 0.155702
A32: KROLL Ex Post - ERP Supply Side (8) | B32: 0.0631 | C32: =+C17 -> 1.46 | D32: =+B32*C32 -> 0.092126 | E32: =+'Growth & Inflation Rates'!$G$24 -> 0.0481 | F32: =+D32+E32 -> 0.140226
A33: KROLL Ex Ante - ERP Conditional (8) | B33: 0.05 | C33: =+C16 -> 1.46 | D33: =+B33*C33 -> 0.073 | E33: =+'Growth & Inflation Rates'!$G$24 -> 0.0481 | F33: =+D33+E33 -> 0.1211
A39: KE = Rf + (B X ERP X 75%) = (ERP X 25%)
A40: Empirical CAPM Models | B40: Equity Risk Premium (ERP) | C40: Industry Beta (B) | D40: Weighted Industry Risk Premium (75%) | E40: Weighted Equity Risk Premium (25%) | F40: Risk Free Rate (Rf) | G40: Indicated Equity Rate
A42: Three Stage Ex Ante Version 1 (1) | B42: =+B16 -> 0.0294 | C42: =+C16 -> 1.46 | D42: =+B42*C42*0.75 -> 0.032193 | E42: =+B42*0.25 -> 0.00735 | F42: =+'Growth & Inflation Rates'!$G$24 -> 0.0481 | G42: =+D42+E42+F42 -> 0.087643
A43: Three Stage Ex Ante Version 2 (2) | B43: =+B17 -> 0.0298 | C43: =+C17 -> 1.46 | D43: =+B43*C43*0.75 -> 0.032631 | E43: =+B43*0.25 -> 0.00745 | F43: =+'Growth & Inflation Rates'!$G$24 -> 0.0481 | G43: =+D43+E43+F43 -> 0.088181
A45: =+A19 -> Damodaran Implied ERP Ex Ante Trailing 12 mo Cash Yield (3) | B45: =+B19 -> 0.0423 | C45: =+C19 -> 1.46 | D45: =+B45*C45*0.75 -> 0.0463185 | E45: =+B45*0.25 -> 0.010575 | F45: =+'Growth & Inflation Rates'!$G$24 -> 0.0481 | G45: =+D45+E45+F45 -> 0.1049935
A46: =+A20 -> Damodaran Implied ERP Ex Ante Avg CF Yield Last 10 Yrs (3) | B46: =+B20 -> 0.0618 | C46: =+C20 -> 1.46 | D46: =+B46*C46*0.75 -> 0.067671 | E46: =+B46*0.25 -> 0.01545 | F46: =+'Growth & Inflation Rates'!$G$24 -> 0.0481 | G46: =+D46+E46+F46 -> 0.131221
A47: =+A21 -> Damodaran Implied ERP Ex Ante Net Cash Yield (3) | B47: =+B21 -> 0.0396 | C47: =+C21 -> 1.46 | D47: =+B47*C47*0.75 -> 0.043362 | E47: =+B47*0.25 -> 0.0099 | F47: =+'Growth & Inflation Rates'!$G$24 -> 0.0481 | G47: =+D47+E47+F47 -> 0.101362
A48: =+A22 -> Damodaran Implied ERP Ex Ante Norm. Earnings & Payout (3) | B48: =+B22 -> 0.0362 | C48: =+C22 -> 1.46 | D48: =+B48*C48*0.75 -> 0.039639 | E48: =+B48*0.25 -> 0.00905 | F48: =+'Growth & Inflation Rates'!$G$24 -> 0.0481 | G48: =+D48+E48+F48 -> 0.096789
A50: The CFO Survey (4) | B50: =+B24 -> 0.0561 | C50: =+C24 -> 1.46 | D50: =+B50*C50*0.75 -> 0.0614295 | E50: =+B50*0.25 -> 0.014025 | F50: =+'Growth & Inflation Rates'!$G$24 -> 0.0481 | G50: =+D50+E50+F50 -> 0.1235545
A52: P. Fernandez, T. Garcia de Santos & J.F.Acin (5) | B52: =+B26 -> 0.055 | C52: =+C26 -> 1.46 | D52: =+B52*C52*0.75 -> 0.060225 | E52: =+B52*0.25 -> 0.01375 | F52: =+'Growth & Inflation Rates'!$G$24 -> 0.0481 | G52: =+D52+E52+F52 -> 0.122075
A54: BVR - Historical, Arithmetic Mean (6) | B54: =+B28 -> 0.0678 | C54: =+C28 -> 1.46 | D54: =+B54*C54*0.75 -> 0.074241 | E54: =+B54*0.25 -> 0.01695 | F54: =+'Growth & Inflation Rates'!$G$24 -> 0.0481 | G54: =+D54+E54+F54 -> 0.139291
A55: BVR - Historical, Geometric Mean (7) | B55: =+B29 -> 0.0554 | C55: =+C29 -> 1.46 | D55: =+B55*C55*0.75 -> 0.060663 | E55: =+B55*0.25 -> 0.01385 | F55: =+'Growth & Inflation Rates'!$G$24 -> 0.0481 | G55: =+D55+E55+F55 -> 0.122613
A57: =+A31 -> KROLL Ex Post - ERP Historical (8) | B57: =+B31 -> 0.0737 | C57: =+C31 -> 1.46 | D57: =+B57*C57*0.75 -> 0.0807015 | E57: =+B57*0.25 -> 0.018425 | F57: =+'Growth & Inflation Rates'!$G$24 -> 0.0481 | G57: =+D57+E57+F57 -> 0.1472265
A58: =+A32 -> KROLL Ex Post - ERP Supply Side (8) | B58: =+B32 -> 0.0631 | C58: =+C32 -> 1.46 | D58: =+B58*C58*0.75 -> 0.0690945 | E58: =+B58*0.25 -> 0.015775 | F58: =+'Growth & Inflation Rates'!$G$24 -> 0.0481 | G58: =+D58+E58+F58 -> 0.1329695
A59: =+A33 -> KROLL Ex Ante - ERP Conditional (8) | B59: =+B33 -> 0.05 | C59: =+C29 -> 1.46 | D59: =+B59*C59*0.75 -> 0.05475 | E59: =+B59*0.25 -> 0.0125 | F59: =+'Growth & Inflation Rates'!$G$24 -> 0.0481 | G59: =+D59+E59+F59 -> 0.11535
A64: Notes:
A66: (1) Three Stage Dividend Growth Model, S&P 500. The Three Stage Ex Ante calculations were performed by Montana. The Equity risk premiums are shown above.
A67: (2) Three Stage Dividend Growth Model, S&P 500. The Three Stage Ex Ante calculations were performed by Minnesota. The Equity risk premiums are shown above.
A69: (3) Implied Equity Risk Premium on January 2, 2026 as determined by Dr. Aswath Damodaran
...

Sheet Growth & Inflation Rates
A1: KENTUCKY DEPARTMENT OF REVENUE
A2: DIVISION OF STATE VALUATION, PUBLIC SERVICE BRANCH
A3: 2026 Tax Year
A7: Air Passenger Carriers | E7: GROWTH & INFLATION RATES
E8: YEAR END 12/31/2025
A11: SHORT-TERM GROWTH RATES (5 years)
B13: Zacks Investment Research | C13: CFRA S&P Net Advantage | D13: Value Line Earnings | E13: Value Line Dividends | F13: KY DOR Dividends Growth Rate (Median / Average) | G13: KY DOR Earnings Growth Rate (Median / Average) | H13: Yahoo Finance
A15: =+A7 -> Air Passenger Carriers | B15: 0 | C15: 0 | D15: 0 | E15: 0 | F15: =+'Dividends '!K27 -> 0.19594145 | G15: =+Earnings!K26 -> 0.085748762 | H15: 0
F16: =+'Dividends '!K28 -> 0.35624308 | G16: =+Earnings!K27 -> 0.26158827
A18: RISK FREE RATE (Rf)
D19: RISK FREE RATE (Rf)
C20: Federal Reserve Statistical Release (January 2, 2026) Treasury Constant Maturities, Nominal (1) :
C21: 10-year U.S. Treasury coupon bonds | D21: 0.0419
C22: 20-year U.S. Treasury coupon bonds | D22: 0.0481
C23: 30-year U.S. Treasury coupon bonds | D23: 0.0486 | G23: KDOR Selected Risk Free Rate (Rf) >
C24: Value Line Investment Survey (January 10, 2026) Selected Yields on Taxable U.S. Treasury Securities : | G24: 0.0481
C25: 10-year U.S. Treasury coupon bonds | D25: 0.0412
C26: 20-year U.S. Treasury coupon bonds | D26: 0
C27: 30-year U.S. Treasury coupon bonds | D27: 0.0483
C28: Damodaran selected Risk-Free rate (January 1, 2026) (7) : | D28: 0.0418
C29: KROLL Cost of Capital Navigator Risk-Free rate Ex Post (January 1, 2026) : | D29: 0.0479
E31: Inflation and Gross Domestic Product (GDP) Data
E32: YEAR END 12/31/2025
A33: INFLATION (CPI) & GROSS DOMESTIC PRODUCT (GDP)
D35: Inflation | E35: Real LT Growth | F35: Nominal
A36: Source | D36: CPI | E36: GDP | F36: Growth
A38: Federal Reserve Statistical Release 10 Yr Inflation protected Treasury securities (1) | D38: 0.0225 | E38: na | F38: na
A39: Federal Reserve Statistical Release 20 Yr Inflation protected Treasury securities (1) | D39: 0.0242 | E39: na | F39: na
A40: Federal Reserve Statistical Release 30 Yr Inflation protected Treasury securities (1) | D40: 0.0223 | E40: na | F40: na
A41: Federal Reserve Bank of Philadelphia / Livingston Survey Mean (2) | D41: 0.0229 | E41: 0.0201 | F41: =+D41+E41 -> 0.043
A42: Federal Reserve Bank of Philadelphia / Livingston Survey Median (2a) | D42: 0.024 | E42: 0.02 | F42: =+D42+E42 -> 0.044
A43: Federal Reserve Bank of Philadelphia /Survey of Professional Forecasters Mean (2b) | D43: 0.0234 | E43: 0.021 | F43: =+D43+E43 -> 0.0444
A44: Congressional Budget Office Real Economic Projections (3) | D44: 0.023 | E44: 0.018 | F44: =+D44+E44 -> 0.041
A45: Congressional Budget Office Real Economic Projections (3a) | D45: 0.023 | E45: 0.021 | F45: =+D45+E45 -> 0.044
A46: Congressional Budget Office Real Economic Projections (3b) | D46: 0.023 | E46: 0.019 | F46: =+D46+E46 -> 0.042
A47: The Trading Economics (4) | D47: 0.023 | E47: 0.021 | F47: =+D47+E47 -> 0.044
A48: The World Bank (5) | D48: na | E48: 0.022 | F48: na
A49: Federal Reserve Bank "Long Term" Projection - Members & Presidents opinion (6) | D49: 0.02 | E49: 0.018 | F49: =+D49+E49 -> 0.038
C50: High | D50: =MAX(D38:D49) -> 0.0242 | E50: =MAX(E38:E49) -> 0.022 | F50: =MAX(F38:F49) -> 0.0444
C51: Low | D51: =MIN(D38:D49) -> 0.02 | E51: =MIN(E38:E49) -> 0.018 | F51: =MIN(F38:F49) -> 0.038
...

Sheet Indicated Yield Equity Rate 
A1: KENTUCKY DEPARTMENT OF REVENUE
A2: DIVISION OF STATE VALUATION, PUBLIC SERVICE BRANCH
A3: 2026 Tax Year
A6: =+'S&D'!A12 -> Air Passenger Carriers
C9: EQUITY RATES for YIELD APPROACH
C10: YEAR END 12/31/2025
D13: Kentucky
C14: MODEL | D14: YIELD EQUITY RATE
C15: CAPM - Ex Ante, Three Stage - V1 | D15: =+CAPM!F16 -> 0.091024
C16: CAPM - Ex Ante, Three Stage - V2 | D16: =+CAPM!F17 -> 0.091608
C17: CAPM - Ex Ante Damodaran 12 Mo Cash Yield | D17: =+CAPM!F19 -> 0.109858
C18: CAPM - Ex Ante Damodaran Avg CF Yield Last 10 Yrs | D18: =+CAPM!F20 -> 0.138328
C19: CAPM - Ex Ante Damodaran Net Cash Yield | D19: =+CAPM!F21 -> 0.105916
C20: CAPM - Ex Ante Damodaran NEP | D20: =+CAPM!F22 -> 0.100952
C21: CAPM - The CFO Survey | D21: =+CAPM!F24 -> 0.130006
C22: CAPM - Fernandez, Banuls, & Acin | D22: =+CAPM!F26 -> 0.1284
C23: CAPM - Ex Post (BVR Historical, Arithmeic) | D23: =+CAPM!F28 -> 0.147088
C24: CAPM - Ex Post (BVR Historical, Geometric) | D24: =+CAPM!F29 -> 0.128984
C25: CAPM - Ex Post KROLL ERP Historical | D25: =+CAPM!F31 -> 0.155702
C26: CAPM - Ex Post KROLL ERP Supply Side | D26: =+CAPM!F32 -> 0.140226
C27: CAPM - Ex Ante KROLL ERP Conditional | D27: =+CAPM!F33 -> 0.1211
C28: Empirical CAPM - Ex Ante, Three Stage - V1 | D28: =+CAPM!G42 -> 0.087643
C29: Empirical CAPM - Ex Ante, Three Stage - V2 | D29: =+CAPM!G43 -> 0.088181
C30: Empirical CAPM - Ex Ante Damodaran 12 Mo Cash Yield | D30: =+CAPM!G45 -> 0.1049935
C31: Empirical CAPM - Ex Ante Damodaran Avg CF Yield Last 10 Yrs | D31: =+CAPM!G46 -> 0.131221
C32: Empirical CAPM - Ex Ante Damodaran Net Cash Yield | D32: =+CAPM!G47 -> 0.101362
C33: Empirical CAPM - Ex Ante Damodaran NEP | D33: =+CAPM!G48 -> 0.096789
C34: Empirical CAPM - The CFO Survey | D34: =+CAPM!G50 -> 0.1235545
C35: Empirical CAPM - Fernandez, Banuls, & Acin | D35: =+CAPM!G52 -> 0.122075
C36: Empirical CAPM - Ex Post (BVR Historical, Arithmeic) | D36: =+CAPM!G54 -> 0.139291
C37: Empirical CAPM - Ex Post (BVR Historical, Geometric) | D37: =+CAPM!G55 -> 0.122613
C38: Empirical CAPM - Ex Post KROLL ERP Historical | D38: =+CAPM!G57 -> 0.1472265
C39: Empirical CAPM - Ex Post KROLL ERP Supply Side | D39: =+CAPM!G58 -> 0.1329695
C40: Empirical CAPM - Ex Ante KROLL ERP Conditional | D40: =+CAPM!G59 -> 0.11535
C41: Empirical CAPM - S&P Global Market Intelligence | D41: na
C42: DGM - Single Stage - Dividend Growth | D42: =+'Single Stage Div Growth Model'!I31 -> 0.1784
C43: DGM - Single Stage - Earnings Growth | D43: =+'Single Stage Div Growth Model'!I33 -> 0.1792
C44: DGM - Two Stage - Dividend Growth | D44: =+'Two-Stage Div Growth Model'!H35 -> 0.1481
C45: P/E Ratio - Long Term Projection NOPAT | D45: =+'Direct NOPAT'!G61 -> 0.2024
C47: High | D47: =MAX(D15:D44) -> 0.1792
...

Sheet Single Stage Div Growth Model
A1: KENTUCKY DEPARTMENT OF REVENUE
A2: DIVISION OF STATE VALUATION, PUBLIC SERVICE BRANCH
A3: 2026 Tax Year
A6: =+'S&D'!A12 -> Air Passenger Carriers
F7: Yield Equity Rate - DGM (Dividend Growth) & DGM (Earnings Growth) -- Gordon Growth
F8: YEAR END 12/31/2025
B10: Ticker | C10: Industry | D10: Stock | E10: Common Stock | F10: Dividend Yield | G10: Projected Short Term | H10: Projected Short Term | I10: Equity Rate | J10: Equity Rate
A11: Company | B11: Symbol | C11: Group | D11: Price (P0) | E11: FMV | F11: Projected | G11: Dividend Growth Rate | H11: Earnings Per Share Growth Rate | I11: Dividend | J11: Earnings
G12: Estimated 23-25 to 29-31 | H12: Estimated 23-25 to 29-31
A13: A | B13: B | C13: C | D13: D | E13: E | F13: F | G13: G | H13: H | I13: (F+G) | J13: (F+H)
A14: VL | B14: VL | C14: VL | D14: Year End | G14: VL | H14: VL | I14: Calculated | J14: Calculated
A17: =+'S&D'!A22 -> Alaska Air | B17: =+'S&D'!B22 -> ALK | C17: =+'S&D'!C22 -> AirTrans | D17: =+'S&D'!G22 -> 50.3 | E17: =+'S&D'!D39 -> 5.8112037e+09 | F17: =+'Dividends '!H16 -> NA | G17: NMF | H17: 0.235 | I17: NA | J17: NA
A18: =+'S&D'!A23 -> Allegiant Travel Co. | B18: =+'S&D'!B23 -> ALGT | C18: =+'S&D'!C23 -> AirTrans | D18: =+'S&D'!G23 -> 85.27 | E18: =+'S&D'!D40 -> 1.5670696e+09 | F18: =+'Dividends '!H17 -> 0.0011727454 | G18: -0.04 | H18: 0.25 | I18: NA | J18: =+F18+H18 -> 0.25117275
A19: =+'S&D'!A24 -> American Airlines | B19: =+'S&D'!B24 -> AAL | C19: =+'S&D'!C24 -> AirTrans | D19: =+'S&D'!G24 -> 15.33 | E19: =+'S&D'!D41 -> 1.0122416e+10 | F19: =+'Dividends '!H18 -> NA | G19: Nil | H19: 0.12 | I19: NA | J19: NA
A20: =+'S&D'!A25 -> Delta Air Lines | B20: =+'S&D'!B25 -> DAL | C20: =+'S&D'!C25 -> AirTrans | D20: =+'S&D'!G25 -> 69.4 | E20: =+'S&D'!D42 -> 4.5330084e+10 | F20: =+'Dividends '!H19 -> 0.012247839 | G20: NMF | H20: 0.095 | I20: NA | J20: =+F20+H20 -> 0.10724784
A21: =+'S&D'!A26 -> JetBlue Airways | B21: =+'S&D'!B26 -> JBLU | C21: =+'S&D'!C26 -> AirTrans | D21: =+'S&D'!G26 -> 4.55 | E21: =+'S&D'!D43 -> 1683500000 | F21: =+'Dividends '!H20 -> NA | G21: Nil | H21: NMF | I21: NA | J21: NA
A22: =+'S&D'!A27 -> Skywest Inc | B22: =+'S&D'!B27 -> SKYW | C22: =+'S&D'!C27 -> AirTrans | D22: =+'S&D'!G27 -> 100.41 | E22: =+'S&D'!D44 -> 4.0034955e+09 | F22: =+'Dividends '!H21 -> NA | G22: NMF | H22: 0.24 | I22: NA | J22: NA
